BEGIN:VCALENDAR
VERSION:2.0
PRODID:-//bijdeKEET - ECPv6.15.20//NONSGML v1.0//EN
CALSCALE:GREGORIAN
METHOD:PUBLISH
X-WR-CALNAME:bijdeKEET
X-ORIGINAL-URL:https://www.bijdekeet.nl
X-WR-CALDESC:Evenementen voor bijdeKEET
REFRESH-INTERVAL;VALUE=DURATION:PT1H
X-Robots-Tag:noindex
X-PUBLISHED-TTL:PT1H
BEGIN:VTIMEZONE
TZID:Europe/Paris
BEGIN:DAYLIGHT
TZOFFSETFROM:+0100
TZOFFSETTO:+0200
TZNAME:CEST
DTSTART:20230326T010000
END:DAYLIGHT
BEGIN:STANDARD
TZOFFSETFROM:+0200
TZOFFSETTO:+0100
TZNAME:CET
DTSTART:20231029T010000
END:STANDARD
BEGIN:DAYLIGHT
TZOFFSETFROM:+0100
TZOFFSETTO:+0200
TZNAME:CEST
DTSTART:20240331T010000
END:DAYLIGHT
BEGIN:STANDARD
TZOFFSETFROM:+0200
TZOFFSETTO:+0100
TZNAME:CET
DTSTART:20241027T010000
END:STANDARD
BEGIN:DAYLIGHT
TZOFFSETFROM:+0100
TZOFFSETTO:+0200
TZNAME:CEST
DTSTART:20250330T010000
END:DAYLIGHT
BEGIN:STANDARD
TZOFFSETFROM:+0200
TZOFFSETTO:+0100
TZNAME:CET
DTSTART:20251026T010000
END:STANDARD
BEGIN:DAYLIGHT
TZOFFSETFROM:+0100
TZOFFSETTO:+0200
TZNAME:CEST
DTSTART:20260329T010000
END:DAYLIGHT
BEGIN:STANDARD
TZOFFSETFROM:+0200
TZOFFSETTO:+0100
TZNAME:CET
DTSTART:20261025T010000
END:STANDARD
BEGIN:DAYLIGHT
TZOFFSETFROM:+0100
TZOFFSETTO:+0200
TZNAME:CEST
DTSTART:20270328T010000
END:DAYLIGHT
BEGIN:STANDARD
TZOFFSETFROM:+0200
TZOFFSETTO:+0100
TZNAME:CET
DTSTART:20271031T010000
END:STANDARD
END:VTIMEZONE
BEGIN:VEVENT
DTSTART;TZID=Europe/Paris:20260502T110000
DTEND;TZID=Europe/Paris:20260502T170000
DTSTAMP:20260419T234930
CREATED:20260411T171633Z
LAST-MODIFIED:20260411T171633Z
UID:556-1777719600-1777741200@www.bijdekeet.nl
SUMMARY:Bij de Keet open
DESCRIPTION:
URL:https://www.bijdekeet.nl/event/bij-de-keet-open-33/
END:VEVENT
BEGIN:VEVENT
DTSTART;TZID=Europe/Paris:20260427T110000
DTEND;TZID=Europe/Paris:20260427T170000
DTSTAMP:20260419T234930
CREATED:20260411T171416Z
LAST-MODIFIED:20260411T171416Z
UID:553-1777287600-1777309200@www.bijdekeet.nl
SUMMARY:Bij de keet open Koningsdag
DESCRIPTION:Gezellige dag met spelletjes\, Oranje lekkers en poffertjes.
URL:https://www.bijdekeet.nl/event/bij-de-keet-open-koningsdag/
END:VEVENT
BEGIN:VEVENT
DTSTART;TZID=Europe/Paris:20260418T110000
DTEND;TZID=Europe/Paris:20260418T170000
DTSTAMP:20260419T234930
CREATED:20260411T171312Z
LAST-MODIFIED:20260411T171312Z
UID:551-1776510000-1776531600@www.bijdekeet.nl
SUMMARY:Bij de keet open
DESCRIPTION:
URL:https://www.bijdekeet.nl/event/bij-de-keet-open-32/
END:VEVENT
BEGIN:VEVENT
DTSTART;TZID=Europe/Paris:20260406T110000
DTEND;TZID=Europe/Paris:20260406T170000
DTSTAMP:20260419T234930
CREATED:20260313T103454Z
LAST-MODIFIED:20260313T103454Z
UID:542-1775473200-1775494800@www.bijdekeet.nl
SUMMARY:Paasweekend Bij de Keet open
DESCRIPTION:
URL:https://www.bijdekeet.nl/event/paasweekend-bij-de-keet-open-2/
END:VEVENT
BEGIN:VEVENT
DTSTART;TZID=Europe/Paris:20260404T110000
DTEND;TZID=Europe/Paris:20260404T170000
DTSTAMP:20260419T234930
CREATED:20260313T103428Z
LAST-MODIFIED:20260313T103428Z
UID:540-1775300400-1775322000@www.bijdekeet.nl
SUMMARY:Paasweekend Bij de Keet open
DESCRIPTION:
URL:https://www.bijdekeet.nl/event/paasweekend-bij-de-keet-open/
END:VEVENT
BEGIN:VEVENT
DTSTART;TZID=Europe/Paris:20250609T110000
DTEND;TZID=Europe/Paris:20250609T170000
DTSTAMP:20260419T234930
CREATED:20250331T192508Z
LAST-MODIFIED:20250331T192508Z
UID:482-1749466800-1749488400@www.bijdekeet.nl
SUMMARY:Tweede Pinksterdag Open
DESCRIPTION:
URL:https://www.bijdekeet.nl/event/tweede-pinksterdag-open/
END:VEVENT
BEGIN:VEVENT
DTSTART;TZID=Europe/Paris:20250607T080000
DTEND;TZID=Europe/Paris:20250607T170000
DTSTAMP:20260419T234930
CREATED:20250331T192422Z
LAST-MODIFIED:20250331T192422Z
UID:480-1749283200-1749315600@www.bijdekeet.nl
SUMMARY:Bij de Keet open
DESCRIPTION:
URL:https://www.bijdekeet.nl/event/bij-de-keet-open-31/
END:VEVENT
BEGIN:VEVENT
DTSTART;TZID=Europe/Paris:20250606T133000
DTEND;TZID=Europe/Paris:20250606T170000
DTSTAMP:20260419T234930
CREATED:20250331T192351Z
LAST-MODIFIED:20250331T192351Z
UID:478-1749216600-1749229200@www.bijdekeet.nl
SUMMARY:Bij de Keet open
DESCRIPTION:
URL:https://www.bijdekeet.nl/event/bij-de-keet-open-30/
END:VEVENT
BEGIN:VEVENT
DTSTART;TZID=Europe/Paris:20250524T110000
DTEND;TZID=Europe/Paris:20250524T170000
DTSTAMP:20260419T234930
CREATED:20250331T192245Z
LAST-MODIFIED:20250331T192245Z
UID:476-1748084400-1748106000@www.bijdekeet.nl
SUMMARY:Bij de Keet open
DESCRIPTION:
URL:https://www.bijdekeet.nl/event/bij-de-keet-open-29/
END:VEVENT
BEGIN:VEVENT
DTSTART;TZID=Europe/Paris:20250426T110000
DTEND;TZID=Europe/Paris:20250426T170000
DTSTAMP:20260419T234930
CREATED:20250331T192133Z
LAST-MODIFIED:20250331T192133Z
UID:474-1745665200-1745686800@www.bijdekeet.nl
SUMMARY:Koningsdag Open
DESCRIPTION:
URL:https://www.bijdekeet.nl/event/koningsdag-open/
END:VEVENT
BEGIN:VEVENT
DTSTART;TZID=Europe/Paris:20250425T133000
DTEND;TZID=Europe/Paris:20250425T170000
DTSTAMP:20260419T234930
CREATED:20250331T192101Z
LAST-MODIFIED:20250331T192101Z
UID:472-1745587800-1745600400@www.bijdekeet.nl
SUMMARY:Bij de Keet open
DESCRIPTION:
URL:https://www.bijdekeet.nl/event/bij-de-keet-open-22/
END:VEVENT
BEGIN:VEVENT
DTSTART;TZID=Europe/Paris:20250421T110000
DTEND;TZID=Europe/Paris:20250421T170000
DTSTAMP:20260419T234930
CREATED:20250331T192030Z
LAST-MODIFIED:20250331T192030Z
UID:470-1745233200-1745254800@www.bijdekeet.nl
SUMMARY:Tweede Paasdag Open
DESCRIPTION:
URL:https://www.bijdekeet.nl/event/tweede-paasdag-open/
END:VEVENT
BEGIN:VEVENT
DTSTART;TZID=Europe/Paris:20250419T110000
DTEND;TZID=Europe/Paris:20250419T170000
DTSTAMP:20260419T234930
CREATED:20250331T191946Z
LAST-MODIFIED:20250331T191946Z
UID:468-1745060400-1745082000@www.bijdekeet.nl
SUMMARY:Opening seizoen
DESCRIPTION:
URL:https://www.bijdekeet.nl/event/opening-seizoen-2/
END:VEVENT
BEGIN:VEVENT
DTSTART;TZID=Europe/Paris:20250418T133000
DTEND;TZID=Europe/Paris:20250418T170000
DTSTAMP:20260419T234930
CREATED:20250331T191918Z
LAST-MODIFIED:20250331T192210Z
UID:466-1744983000-1744995600@www.bijdekeet.nl
SUMMARY:Opening Seizoen
DESCRIPTION:
URL:https://www.bijdekeet.nl/event/opening-seizoen/
END:VEVENT
BEGIN:VEVENT
DTSTART;TZID=Europe/Paris:20240906T160000
DTEND;TZID=Europe/Paris:20240906T220000
DTSTAMP:20260419T234930
CREATED:20240716T180348Z
LAST-MODIFIED:20240716T180348Z
UID:446-1725638400-1725660000@www.bijdekeet.nl
SUMMARY:Molenmarkt
DESCRIPTION:
URL:https://www.bijdekeet.nl/event/molenmarkt/
END:VEVENT
BEGIN:VEVENT
DTSTART;TZID=Europe/Paris:20240831T110000
DTEND;TZID=Europe/Paris:20240831T170000
DTSTAMP:20260419T234930
CREATED:20240716T180232Z
LAST-MODIFIED:20240716T180232Z
UID:444-1725102000-1725123600@www.bijdekeet.nl
SUMMARY:Bij de keet open
DESCRIPTION:
URL:https://www.bijdekeet.nl/event/bij-de-keet-open-28/
END:VEVENT
BEGIN:VEVENT
DTSTART;TZID=Europe/Paris:20240830T133000
DTEND;TZID=Europe/Paris:20240830T170000
DTSTAMP:20260419T234930
CREATED:20240716T180206Z
LAST-MODIFIED:20240716T180206Z
UID:442-1725024600-1725037200@www.bijdekeet.nl
SUMMARY:Bij de keet open
DESCRIPTION:
URL:https://www.bijdekeet.nl/event/bij-de-keet-open-27/
END:VEVENT
BEGIN:VEVENT
DTSTART;TZID=Europe/Paris:20240824T110000
DTEND;TZID=Europe/Paris:20240824T170000
DTSTAMP:20260419T234930
CREATED:20240716T180048Z
LAST-MODIFIED:20240716T180048Z
UID:439-1724497200-1724518800@www.bijdekeet.nl
SUMMARY:Bij de Keet open
DESCRIPTION:
URL:https://www.bijdekeet.nl/event/bij-de-keet-open-26/
END:VEVENT
BEGIN:VEVENT
DTSTART;TZID=Europe/Paris:20240823T110000
DTEND;TZID=Europe/Paris:20240823T170000
DTSTAMP:20260419T234930
CREATED:20240716T180020Z
LAST-MODIFIED:20240716T180020Z
UID:437-1724410800-1724432400@www.bijdekeet.nl
SUMMARY:Bij de keet open
DESCRIPTION:
URL:https://www.bijdekeet.nl/event/bij-de-keet-open-25/
END:VEVENT
BEGIN:VEVENT
DTSTART;TZID=Europe/Paris:20240817T110000
DTEND;TZID=Europe/Paris:20240817T170000
DTSTAMP:20260419T234930
CREATED:20240716T175944Z
LAST-MODIFIED:20240716T175944Z
UID:435-1723892400-1723914000@www.bijdekeet.nl
SUMMARY:Bij de keet open
DESCRIPTION:
URL:https://www.bijdekeet.nl/event/bij-de-keet-open-24/
END:VEVENT
BEGIN:VEVENT
DTSTART;TZID=Europe/Paris:20240816T110000
DTEND;TZID=Europe/Paris:20240816T170000
DTSTAMP:20260419T234930
CREATED:20240716T175915Z
LAST-MODIFIED:20240716T175915Z
UID:433-1723806000-1723827600@www.bijdekeet.nl
SUMMARY:Bij de Keet open
DESCRIPTION:
URL:https://www.bijdekeet.nl/event/bij-de-keet-open-23/
END:VEVENT
BEGIN:VEVENT
DTSTART;TZID=Europe/Paris:20240720T080000
DTEND;TZID=Europe/Paris:20240815T170000
DTSTAMP:20260419T234930
CREATED:20240310T184520Z
LAST-MODIFIED:20240717T074431Z
UID:367-1721462400-1723741200@www.bijdekeet.nl
SUMMARY:Bij de keet gesloten ivm vakantie
DESCRIPTION:
URL:https://www.bijdekeet.nl/event/bij-de-keet-gesloten-ivm-vakantie/
END:VEVENT
BEGIN:VEVENT
DTSTART;TZID=Europe/Paris:20240719T110000
DTEND;TZID=Europe/Paris:20240719T170000
DTSTAMP:20260419T234930
CREATED:20240716T175623Z
LAST-MODIFIED:20240716T175623Z
UID:429-1721386800-1721408400@www.bijdekeet.nl
SUMMARY:Bij de Keet open
DESCRIPTION:
URL:https://www.bijdekeet.nl/event/bij-de-keet-open-21/
END:VEVENT
BEGIN:VEVENT
DTSTART;TZID=Europe/Paris:20240705T163000
DTEND;TZID=Europe/Paris:20240706T100000
DTSTAMP:20260419T234930
CREATED:20240305T191830Z
LAST-MODIFIED:20240528T144149Z
UID:352-1720197000-1720260000@www.bijdekeet.nl
SUMMARY:Tentenkamp
DESCRIPTION:Een bijzondere editie van tentenkamp met extra attracties bij de spelletjesavond en overnachten in de speeltuin.
URL:https://www.bijdekeet.nl/event/tentenkamp/
END:VEVENT
BEGIN:VEVENT
DTSTART;VALUE=DATE:20240705
DTEND;VALUE=DATE:20240706
DTSTAMP:20260419T234930
CREATED:20240528T144223Z
LAST-MODIFIED:20240528T144223Z
UID:407-1720137600-1720223999@www.bijdekeet.nl
SUMMARY:Bij de keet gesloten
DESCRIPTION:
URL:https://www.bijdekeet.nl/event/bij-de-keet-gesloten-4/
END:VEVENT
BEGIN:VEVENT
DTSTART;TZID=Europe/Paris:20240629T110000
DTEND;TZID=Europe/Paris:20240629T170000
DTSTAMP:20260419T234930
CREATED:20240528T145017Z
LAST-MODIFIED:20240528T145017Z
UID:427-1719658800-1719680400@www.bijdekeet.nl
SUMMARY:Bij de keet open
DESCRIPTION:
URL:https://www.bijdekeet.nl/event/bij-de-keet-open-20/
END:VEVENT
BEGIN:VEVENT
DTSTART;TZID=Europe/Paris:20240628T133000
DTEND;TZID=Europe/Paris:20240628T170000
DTSTAMP:20260419T234930
CREATED:20240528T144946Z
LAST-MODIFIED:20240528T144946Z
UID:425-1719581400-1719594000@www.bijdekeet.nl
SUMMARY:Bij de keet open
DESCRIPTION:
URL:https://www.bijdekeet.nl/event/bij-de-keet-open-19/
END:VEVENT
BEGIN:VEVENT
DTSTART;TZID=Europe/Paris:20240622T150000
DTEND;TZID=Europe/Paris:20240622T190000
DTSTAMP:20260419T234930
CREATED:20240528T144803Z
LAST-MODIFIED:20240528T144803Z
UID:423-1719068400-1719082800@www.bijdekeet.nl
SUMMARY:Bij de keet gesloten
DESCRIPTION:
URL:https://www.bijdekeet.nl/event/bij-de-keet-gesloten-5/
END:VEVENT
BEGIN:VEVENT
DTSTART;TZID=Europe/Paris:20240622T093000
DTEND;TZID=Europe/Paris:20240622T140000
DTSTAMP:20260419T234930
CREATED:20240528T144718Z
LAST-MODIFIED:20240528T144916Z
UID:421-1719048600-1719064800@www.bijdekeet.nl
SUMMARY:Familiefeest Bij de Keet
DESCRIPTION:
URL:https://www.bijdekeet.nl/event/familiefeest-bij-de-keet/
END:VEVENT
BEGIN:VEVENT
DTSTART;TZID=Europe/Paris:20240621T133000
DTEND;TZID=Europe/Paris:20240621T170000
DTSTAMP:20260419T234930
CREATED:20240528T144534Z
LAST-MODIFIED:20240528T144534Z
UID:419-1718976600-1718989200@www.bijdekeet.nl
SUMMARY:Bij de keet open
DESCRIPTION:
URL:https://www.bijdekeet.nl/event/bij-de-keet-open-18/
END:VEVENT
END:VCALENDAR